BEGIN:VCALENDAR
VERSION:2.0
PRODID:-//JUST SAY BARKING AND DAGENHAM - ECPv5.16.1.1//NONSGML v1.0//EN
CALSCALE:GREGORIAN
METHOD:PUBLISH
X-ORIGINAL-URL:https://www.justsayforum.online
X-WR-CALDESC:Events for JUST SAY BARKING AND DAGENHAM
REFRESH-INTERVAL;VALUE=DURATION:PT1H
X-Robots-Tag:noindex
X-PUBLISHED-TTL:PT1H
BEGIN:VTIMEZONE
TZID:UTC
BEGIN:STANDARD
TZOFFSETFROM:+0000
TZOFFSETTO:+0000
TZNAME:UTC
DTSTART:20250101T000000
END:STANDARD
END:VTIMEZONE
BEGIN:VEVENT
DTSTART;TZID=UTC:20251111T103000
DTEND;TZID=UTC:20251111T123000
DTSTAMP:20260420T104355
CREATED:20251107T145814Z
LAST-MODIFIED:20251110T112618Z
UID:978-1762857000-1762864200@www.justsayforum.online
SUMMARY:Direct Payments Virtual Meeting
DESCRIPTION:Were pleased to have Zara to present part 2 of the Direct Payments meeting – the first part was held in September. \nThis will be online on 11th November 2025  between 10.30 -12.30pm \nPlease email us to book a place on the following email address: justsaybnd@outlook.com \nYou can click on this Microsoft TEAMS link to join. \nPlease see the following flyer for further details. \n 
URL:https://www.justsayforum.online/event/direct-payments-virtual-meeting/
LOCATION:Online
END:VEVENT
END:VCALENDAR