BEGIN:VCALENDAR
VERSION:2.0
PRODID:-//JUST SAY BARKING AND DAGENHAM - ECPv5.16.1.1//NONSGML v1.0//EN
CALSCALE:GREGORIAN
METHOD:PUBLISH
X-ORIGINAL-URL:https://www.justsayforum.online
X-WR-CALDESC:Events for JUST SAY BARKING AND DAGENHAM
REFRESH-INTERVAL;VALUE=DURATION:PT1H
X-Robots-Tag:noindex
X-PUBLISHED-TTL:PT1H
BEGIN:VTIMEZONE
TZID:UTC
BEGIN:STANDARD
TZOFFSETFROM:+0000
TZOFFSETTO:+0000
TZNAME:UTC
DTSTART:20250101T000000
END:STANDARD
END:VTIMEZONE
BEGIN:VEVENT
DTSTART;TZID=UTC:20251124T100000
DTEND;TZID=UTC:20251124T123000
DTSTAMP:20260420T104040
CREATED:20251021T113151Z
LAST-MODIFIED:20251107T144609Z
UID:969-1763978400-1763987400@www.justsayforum.online
SUMMARY:Puberty and Behaviour Training
DESCRIPTION:We are pleased to invite Perola Sestini\, a behaviour specialist to speak about puberty and sexual behaviour. \nThe topics we will cover are: \n\nBehaviour and puberty\nAge and Stage\nBehaviours that causes concern\nSafeguarding\nHormone support\n\nThere will also be an opportunity to ask questions anonymously via a box in the room \nThis will take place in Dagenham and Redbridge Football club at 10am to 12.30pm \nA light lunch and refreshments will be provided. \nPlease contact us to book your place on 07936851199 \nPlease see the following flyer for more information
URL:https://www.justsayforum.online/event/puberty-and-sexual-behaviour-training/
LOCATION:Dagenham & Redbridge Football Club\, Victoria Road\, Dagenham\, RM10 7XL
END:VEVENT
END:VCALENDAR